BEGIN:VCALENDAR
VERSION:2.0
PRODID:-//Mountain Services - ECPv6.0.3.1//NONSGML v1.0//EN
CALSCALE:GREGORIAN
METHOD:PUBLISH
X-WR-CALNAME:Mountain Services
X-ORIGINAL-URL:https://mountainservices.co.uk
X-WR-CALDESC:Events for Mountain Services
REFRESH-INTERVAL;VALUE=DURATION:PT1H
X-Robots-Tag:noindex
X-PUBLISHED-TTL:PT1H
BEGIN:VTIMEZONE
TZID:Europe/London
BEGIN:DAYLIGHT
TZOFFSETFROM:+0000
TZOFFSETTO:+0100
TZNAME:BST
DTSTART:20220327T010000
END:DAYLIGHT
BEGIN:STANDARD
TZOFFSETFROM:+0100
TZOFFSETTO:+0000
TZNAME:GMT
DTSTART:20221030T010000
END:STANDARD
END:VTIMEZONE
BEGIN:VEVENT
DTSTART;TZID=Europe/London:20220403T100000
DTEND;TZID=Europe/London:20220403T140000
DTSTAMP:20260422T090037
CREATED:20220115T124312Z
LAST-MODIFIED:20220215T110109Z
UID:2654-1648980000-1648994400@mountainservices.co.uk
SUMMARY:More Loving Lichens! (3-4-22)
DESCRIPTION:This is an all new for 22 workshop! \nWe’ll still work on building an foundation knowledge of this tiny wonders of nature – but different venue\, different habitat\, different lichens! \nWhether you’ve been on a Loving Lichens workshop before or not this workshop will teach and develop an understanding of ecosystems\, the role lichens play in them & a methodology of how to identify some common (& potentially rare) lichens found in the wilder parts of the UK. \nThe workshop will take the form of a 3 hour wander into nature. As ever this is a very ‘hands on’ workshop and is reactive to the participants – so we’ll be adapting to weather\, knowledge levels and what we can find on the day.
URL:https://mountainservices.co.uk/event/more-loving-lichens2/2022-04-03/
LOCATION:High Dam\, Finsthwaite\, High Dam\, Finsthwaite\, Cumbria\, LA12 8BJ
ATTACH;FMTTYPE=image/jpeg:https://mountainservices.co.uk/wp-content/uploads/2022/01/Baeomyces-rufus-scaled.jpg
GEO:54.2904571;-2.9821065
X-APPLE-STRUCTURED-LOCATION;VALUE=URI;X-ADDRESS=High Dam Finsthwaite High Dam Finsthwaite Cumbria LA12 8BJ;X-APPLE-RADIUS=500;X-TITLE=High Dam:geo:-2.9821065,54.2904571
END:VEVENT
END:VCALENDAR