BEGIN:VCALENDAR
VERSION:2.0
PRODID:-//Mountain Services - ECPv6.0.3.1//NONSGML v1.0//EN
CALSCALE:GREGORIAN
METHOD:PUBLISH
X-WR-CALNAME:Mountain Services
X-ORIGINAL-URL:https://mountainservices.co.uk
X-WR-CALDESC:Events for Mountain Services
REFRESH-INTERVAL;VALUE=DURATION:PT1H
X-Robots-Tag:noindex
X-PUBLISHED-TTL:PT1H
BEGIN:VTIMEZONE
TZID:Europe/London
BEGIN:DAYLIGHT
TZOFFSETFROM:+0000
TZOFFSETTO:+0100
TZNAME:BST
DTSTART:20200329T010000
END:DAYLIGHT
BEGIN:STANDARD
TZOFFSETFROM:+0100
TZOFFSETTO:+0000
TZNAME:GMT
DTSTART:20201025T010000
END:STANDARD
BEGIN:DAYLIGHT
TZOFFSETFROM:+0000
TZOFFSETTO:+0100
TZNAME:BST
DTSTART:20210328T010000
END:DAYLIGHT
BEGIN:STANDARD
TZOFFSETFROM:+0100
TZOFFSETTO:+0000
TZNAME:GMT
DTSTART:20211031T010000
END:STANDARD
END:VTIMEZONE
BEGIN:VEVENT
DTSTART;TZID=Europe/London:20200127T183000
DTEND;TZID=Europe/London:20200127T213000
DTSTAMP:20260422T004252
CREATED:20191223T142605Z
LAST-MODIFIED:20191223T150758Z
UID:2089-1580149800-1580160600@mountainservices.co.uk
SUMMARY:Intro to Night Nav 27-01-20
DESCRIPTION:This workshop is aimed at anyone interested in taking their navigation to the next level. \nIt’s an Intro session so we’ll be looking at: \nKit \nWhat skills you have now \nWhat skills you need to develop \n  \nThe session will take place at Middle Busk  on Little Asby Scar\, just past Sunbiggin Tarn. You’ll need a copy of either OL19 or an OS Map print out centred on the road junction. This location is approx 10 mins from j38 of the M6 \nOS Grid Ref: NY 68530 09126 \nThis session is free for MTA Members.
URL:https://mountainservices.co.uk/event/intro-to-night-nav/
LOCATION:Howgill Area\, See Details
END:VEVENT
BEGIN:VEVENT
DTSTART;TZID=Europe/London:20200224T183000
DTEND;TZID=Europe/London:20200224T213000
DTSTAMP:20260422T004252
CREATED:20191223T142605Z
LAST-MODIFIED:20191223T150351Z
UID:2096-1582569000-1582579800@mountainservices.co.uk
SUMMARY:Intermediate Night Nav 24-02-20
DESCRIPTION:This workshop is aimed at anyone interested in taking their navigation to the next level. It is recommended that attendees have basic night navigation skills or have attended the Into session. \nThis session is a progression from the Intro sessions\, so we’ll be looking at: \nAdapting existing techniques \nDeveloping strategies \nFine tuning our focus \n  \nThe session will take place at Gibbett Hill\, on the Fairmile Road between Tebay & Sedbergh. \nnote: this road has had very difficult access from Sedbergh for a while\, I recommend you arrive from Tebay. It is less than 10 minutes from j38 of the M6. \nYou will need either OL19 or an os print out centred on Gibbett Hill \nOS Grid Ref: SD 62442 99530 \nThis session is free for MTA Members.
URL:https://mountainservices.co.uk/event/intro-to-night-nav-2/
LOCATION:Howgill Area\, See Details
END:VEVENT
BEGIN:VEVENT
DTSTART;TZID=Europe/London:20211112T183000
DTEND;TZID=Europe/London:20211112T213000
DTSTAMP:20260422T004252
CREATED:20191223T142605Z
LAST-MODIFIED:20211027T134311Z
UID:2577-1636741800-1636752600@mountainservices.co.uk
SUMMARY:Intro to Night Nav 12-11-2021
DESCRIPTION:This workshop is aimed at anyone interested in taking their navigation to the next level. \nIt’s an Intro session so we’ll be looking at: \nKit \nWhat skills you have now \nWhat skills you need to develop \n  \nThe session will take place at Middle Busk  on Little Asby Scar\, just past Sunbiggin Tarn. You’ll need a copy of either OL19 or an OS Map print out centred on the road junction. This location is approx 10 mins from j38 of the M6 \nWe’ll also be meeting in Orton village square to car share. \nOS Grid Ref: NY 68530 09126 \nThis session is free for MTA Members.
URL:https://mountainservices.co.uk/event/intro-to-night-nav-3/
LOCATION:Howgill Area\, See Details
ATTACH;FMTTYPE=image/jpeg:https://mountainservices.co.uk/wp-content/uploads/2018/09/night4.jpeg
END:VEVENT
BEGIN:VEVENT
DTSTART;TZID=Europe/London:20211210T183000
DTEND;TZID=Europe/London:20211210T213000
DTSTAMP:20260422T004252
CREATED:20191223T142605Z
LAST-MODIFIED:20211027T134719Z
UID:2581-1639161000-1639171800@mountainservices.co.uk
SUMMARY:Intermediate Night Nav 10-12-2021
DESCRIPTION:This workshop is aimed at anyone interested in taking their navigation to the next level. It is recommended that attendees have basic night navigation skills or have attended the Into session. \nThis session is a progression from the Intro sessions\, so we’ll be looking at: \nAdapting existing techniques \nDeveloping strategies \nFine tuning our focus \n  \nThe session will take place at Gibbett Hill\, on the Fairmile Road between Tebay & Sedbergh. \nnote: this road has had very difficult access from Sedbergh for a while\, I recommend you arrive from Tebay. It is less than 10 minutes from j38 of the M6. \nYou will need either OL19 or an os print out centred on Gibbett Hill \nOS Grid Ref: SD 62442 99530 \nThis session is free for MTA Members.
URL:https://mountainservices.co.uk/event/intro-to-night-nav-2-3/
LOCATION:Howgill Area\, See Details
ATTACH;FMTTYPE=image/jpeg:https://mountainservices.co.uk/wp-content/uploads/2018/09/night1.jpg
END:VEVENT
END:VCALENDAR