BEGIN:VCALENDAR
VERSION:2.0
PRODID:-//Mountain Services - ECPv6.0.3.1//NONSGML v1.0//EN
CALSCALE:GREGORIAN
METHOD:PUBLISH
X-WR-CALNAME:Mountain Services
X-ORIGINAL-URL:https://mountainservices.co.uk
X-WR-CALDESC:Events for Mountain Services
REFRESH-INTERVAL;VALUE=DURATION:PT1H
X-Robots-Tag:noindex
X-PUBLISHED-TTL:PT1H
BEGIN:VTIMEZONE
TZID:Europe/London
BEGIN:DAYLIGHT
TZOFFSETFROM:+0000
TZOFFSETTO:+0100
TZNAME:BST
DTSTART:20180325T010000
END:DAYLIGHT
BEGIN:STANDARD
TZOFFSETFROM:+0100
TZOFFSETTO:+0000
TZNAME:GMT
DTSTART:20181028T010000
END:STANDARD
END:VTIMEZONE
BEGIN:VEVENT
DTSTART;VALUE=DATE:20180210
DTEND;VALUE=DATE:20180212
DTSTAMP:20260422T034601
CREATED:20180111T183128Z
LAST-MODIFIED:20180111T190311Z
UID:1124-1518220800-1518393599@mountainservices.co.uk
SUMMARY:16hr Outdoor First Aid Course
DESCRIPTION:Cost £120:00\nThis course meets the requirements of most outdoor NGB’s (MTA\, AMI\, BAIML\, BCU) we offer a £20 discount for members who can quote a valid membership number when booking. \n\nThis course is based from the Kentmere Institute at the end of the isolated Kentmere Valley near Staveley. Joining instructions are sent when bookings are confirmed.\nThe course runs from 09:00 to roughly 18:00.\nThere is saved parking for participants at the Institute.\nRefreshments (tea\, coffee etc) are provided\, participants need to bring their own food and snacks; the Institute has basic kitchen facilities including a microwave.\nThe course is a mixture of classroom\, practical and outdoor sessions.\nAll learning materials are provided but participants should bring their own method of taking notes etc. Photography & recording is by group agreement only.\n\n  \n16hr Outdoor First Aid Details                           Not sure? Send Enquiry \nplease note places are not allocated until payment is made
URL:https://mountainservices.co.uk/event/16hr-outdoor-first-aid-course/
LOCATION:Kentmere Institute\, Kentmere\, Cumbria\, United Kingdom
GEO:54.430176;-2.840161
X-APPLE-STRUCTURED-LOCATION;VALUE=URI;X-ADDRESS=Kentmere Institute Kentmere Cumbria United Kingdom;X-APPLE-RADIUS=500;X-TITLE=Kentmere:geo:-2.840161,54.430176
END:VEVENT
BEGIN:VEVENT
DTSTART;VALUE=DATE:20180415
DTEND;VALUE=DATE:20180423
DTSTAMP:20260422T034601
CREATED:20180111T183128Z
LAST-MODIFIED:20180318T114314Z
UID:1197-1523750400-1524441599@mountainservices.co.uk
SUMMARY:16hr OFA Course April18
DESCRIPTION:Cost £120:00\nplease note this is a split weekend course – taking place on two consecutive Sundays \nThis course meets the requirements of most outdoor NGB’s (MTA\, AMI\, BAIML\, BCU) we offer a £20 discount for members who can quote a valid membership number when booking. \n\nThis course will be based from the Kentmere Institute at the end of the isolated Kentmere Valley near Staveley. Joining instructions are sent when bookings are confirmed.\nThe course runs from 09:00 to roughly 18:00.\nThere is saved parking for participants at the Institute.\nRefreshments (tea\, coffee etc) are provided\, participants need to bring their own food and snacks; the Institute has basic kitchen facilities including a microwave.\nThe course is a mixture of classroom\, practical and outdoor sessions.\nAll learning materials are provided but participants should bring their own method of taking notes etc. Photography & recording is by group agreement only.\n\n  \n16hr Outdoor First Aid Details                           Not sure? Send Enquiry \nplease note places are not allocated until payment is made
URL:https://mountainservices.co.uk/event/16hr-outdoor-first-aid-course-2/
LOCATION:Kentmere Institute\, Kentmere\, Cumbria\, United Kingdom
GEO:54.430176;-2.840161
X-APPLE-STRUCTURED-LOCATION;VALUE=URI;X-ADDRESS=Kentmere Institute Kentmere Cumbria United Kingdom;X-APPLE-RADIUS=500;X-TITLE=Kentmere:geo:-2.840161,54.430176
END:VEVENT
BEGIN:VEVENT
DTSTART;VALUE=DATE:20180609
DTEND;VALUE=DATE:20180611
DTSTAMP:20260422T034601
CREATED:20180111T183128Z
LAST-MODIFIED:20180414T095617Z
UID:1206-1528502400-1528675199@mountainservices.co.uk
SUMMARY:16hr OFA Course June18
DESCRIPTION:Cost £120:00\nThis course meets the requirements of most outdoor NGB’s (MTA\, AMI\, BAIML\, BCU) we offer a £20 discount for members who can quote a valid membership number when booking. \n\nThis course will see us returning to the Excellent Kentmere Institute -situated at the head of this impressive Lakeland valley it gives us quick fast access to some wonderful locations. Joining instructions are sent when bookings are confirmed.\nThe course runs from 09:00 to roughly 18:00.\nThere is saved parking for participants at the Institute.\nRefreshments (tea\, coffee etc) are provided\, participants need to bring their own food and snacks; the Institute has basic kitchen facilities including a microwave.\nThe course is a mixture of classroom\, practical and outdoor sessions.\nAll learning materials are provided but participants should bring their own method of taking notes etc. Photography & recording is by group agreement only.\n\n  \n16hr Outdoor First Aid Details                           Not sure? Send Enquiry \nplease note places are not allocated until payment is made
URL:https://mountainservices.co.uk/event/16hr-outdoor-first-aid-june/
LOCATION:Kentmere Institute\, Kentmere\, Cumbria\, United Kingdom
GEO:54.430176;-2.840161
X-APPLE-STRUCTURED-LOCATION;VALUE=URI;X-ADDRESS=Kentmere Institute Kentmere Cumbria United Kingdom;X-APPLE-RADIUS=500;X-TITLE=Kentmere:geo:-2.840161,54.430176
END:VEVENT
BEGIN:VEVENT
DTSTART;VALUE=DATE:20181018
DTEND;VALUE=DATE:20181020
DTSTAMP:20260422T034601
CREATED:20180111T183128Z
LAST-MODIFIED:20180713T163247Z
UID:1557-1539820800-1539993599@mountainservices.co.uk
SUMMARY:16hr OFA Course Midweek Oct18
DESCRIPTION:Cost £120:00\nThis course meets the requirements of most outdoor NGB’s (MTA\, AMI\, BAIML\, BCU) we offer a £20 discount for members who can quote a valid membership number when booking. \n\nWe are running this course mid-week by popular request to allow freelancers to capitalise on weekend work as the year slows down. We appreciate your support.\nThis course will see us returning to the Excellent Kentmere Institute -situated at the head of this impressive Lakeland valley it gives us quick fast access to some wonderful locations. Joining instructions are sent when bookings are confirmed.\nThe course runs from 09:00 to roughly 18:00.\nThere is saved parking for participants at the Institute.\nRefreshments (tea\, coffee etc) are provided\, participants need to bring their own food and snacks; the Institute has basic kitchen facilities including a microwave.\nThe course is a mixture of classroom\, practical and outdoor sessions.\nAll learning materials are provided but participants should bring their own method of taking notes etc. Photography & recording is by group agreement only.\n\n  \n16hr Outdoor First Aid Details                           Not sure? Send Enquiry \nplease note places are not allocated until payment is made
URL:https://mountainservices.co.uk/event/16hr-outdoor-first-aid-midweek-oct/
LOCATION:Kentmere Institute\, Kentmere\, Cumbria\, United Kingdom
GEO:54.430176;-2.840161
X-APPLE-STRUCTURED-LOCATION;VALUE=URI;X-ADDRESS=Kentmere Institute Kentmere Cumbria United Kingdom;X-APPLE-RADIUS=500;X-TITLE=Kentmere:geo:-2.840161,54.430176
END:VEVENT
BEGIN:VEVENT
DTSTART;VALUE=DATE:20181020
DTEND;VALUE=DATE:20181022
DTSTAMP:20260422T034601
CREATED:20180111T183128Z
LAST-MODIFIED:20181005T101715Z
UID:1550-1539993600-1540166399@mountainservices.co.uk
SUMMARY:16hr OFA Course Oct18
DESCRIPTION:Cost £120:00\nThis course meets the requirements of most outdoor NGB’s (MTA\, AMI\, BAIML\, BCU) we offer a £20 discount for members who can quote a valid membership number when booking. \n\nThis course will see us returning to the Excellent Kentmere Institute -situated at the head of this impressive Lakeland valley it gives us quick fast access to some wonderful locations. Joining instructions are sent when bookings are confirmed.\nThe course runs from 09:00 to roughly 18:00.\nThere is saved parking for participants at the Institute.\nRefreshments (tea\, coffee etc) are provided\, participants need to bring their own food and snacks; the Institute has basic kitchen facilities including a microwave.\nThe course is a mixture of classroom\, practical and outdoor sessions.\nAll learning materials are provided but participants should bring their own method of taking notes etc. Photography & recording is by group agreement only.\n\n  \n16hr Outdoor First Aid Details                           Not sure? Send Enquiry \nplease note places are not allocated until payment is made
URL:https://mountainservices.co.uk/event/16hr-outdoor-first-aid-oct/
LOCATION:Kentmere Institute\, Kentmere\, Cumbria\, United Kingdom
GEO:54.430176;-2.840161
X-APPLE-STRUCTURED-LOCATION;VALUE=URI;X-ADDRESS=Kentmere Institute Kentmere Cumbria United Kingdom;X-APPLE-RADIUS=500;X-TITLE=Kentmere:geo:-2.840161,54.430176
END:VEVENT
BEGIN:VEVENT
DTSTART;VALUE=DATE:20181222
DTEND;VALUE=DATE:20181224
DTSTAMP:20260422T034601
CREATED:20181203T171104Z
LAST-MODIFIED:20181203T183123Z
UID:1732-1545436800-1545609599@mountainservices.co.uk
SUMMARY:16+hr OFA Dec 22/23 2018
DESCRIPTION:Cost: £120 \nLooking to avoid Christmas shopping mayhem? Got that one odd weekend of the year when the freelance diary is empty? Or maybe you just want to give yourself the gift of life-saving skills this festive season… \nIf you work or play in the outdoors then this is the course you want. \nThis course meets the requirements of most outdoor NGB’s (MTA\, AMI\, BAIML\, BCU) we offer a £20 discount for members who can quote a valid membership number when booking. \n\nThis course will see us returning to the Excellent Kentmere Institute -situated at the head of this impressive Lakeland valley it gives us quick fast access to some wonderful locations. Joining instructions are sent when bookings are confirmed.\nThe course runs from 09:00 to roughly 18:00.\nThere is saved parking for participants at the Institute.\nRefreshments (tea\, coffee\, Mince Pies!) are provided\, participants need to bring their own food and snacks; the Institute has basic kitchen facilities including a microwave.\nThe course is a mixture of classroom\, practical and outdoor sessions.\nAll learning materials are provided but participants should bring their own method of taking notes etc. Photography & recording is by group agreement only.\nPlease note: Elements of this course will be used to create videos – face only by group agreement though!\n\n16hr Outdoor First Aid Details                           Not sure? Send Enquiry \nplease note places are not allocated until payment is made
URL:https://mountainservices.co.uk/event/16hr-ofa-dec22-23/
LOCATION:Kentmere Institute\, Kentmere\, Cumbria\, United Kingdom
GEO:54.430176;-2.840161
X-APPLE-STRUCTURED-LOCATION;VALUE=URI;X-ADDRESS=Kentmere Institute Kentmere Cumbria United Kingdom;X-APPLE-RADIUS=500;X-TITLE=Kentmere:geo:-2.840161,54.430176
END:VEVENT
END:VCALENDAR