BEGIN:VCALENDAR
VERSION:2.0
PRODID:-//Mountain Services - ECPv6.0.3.1//NONSGML v1.0//EN
CALSCALE:GREGORIAN
METHOD:PUBLISH
X-ORIGINAL-URL:https://mountainservices.co.uk
X-WR-CALDESC:Events for Mountain Services
REFRESH-INTERVAL;VALUE=DURATION:PT1H
X-Robots-Tag:noindex
X-PUBLISHED-TTL:PT1H
BEGIN:VTIMEZONE
TZID:Europe/London
BEGIN:DAYLIGHT
TZOFFSETFROM:+0000
TZOFFSETTO:+0100
TZNAME:BST
DTSTART:20200329T010000
END:DAYLIGHT
BEGIN:STANDARD
TZOFFSETFROM:+0100
TZOFFSETTO:+0000
TZNAME:GMT
DTSTART:20201025T010000
END:STANDARD
BEGIN:DAYLIGHT
TZOFFSETFROM:+0000
TZOFFSETTO:+0100
TZNAME:BST
DTSTART:20210328T010000
END:DAYLIGHT
BEGIN:STANDARD
TZOFFSETFROM:+0100
TZOFFSETTO:+0000
TZNAME:GMT
DTSTART:20211031T010000
END:STANDARD
BEGIN:DAYLIGHT
TZOFFSETFROM:+0000
TZOFFSETTO:+0100
TZNAME:BST
DTSTART:20220327T010000
END:DAYLIGHT
BEGIN:STANDARD
TZOFFSETFROM:+0100
TZOFFSETTO:+0000
TZNAME:GMT
DTSTART:20221030T010000
END:STANDARD
END:VTIMEZONE
BEGIN:VEVENT
DTSTART;VALUE=DATE:20200125
DTEND;VALUE=DATE:20200127
DTSTAMP:20260424T094502
CREATED:20181203T171104Z
LAST-MODIFIED:20200114T182637Z
UID:2041-1579910400-1580083199@mountainservices.co.uk
SUMMARY:16+hr OFA Jan 25-26th 2020
DESCRIPTION:Cost: £120 \nLooking to learn some life saving skills? Need to revalidate your Outdoor First Aid before the season really kicks off? Want a course that actually takes place on the hill with a really experienced trainer? then… \nIf you work or play in the outdoors then this is the course you want. \nThis course meets the requirements of most outdoor NGB’s (MTA\, AMI\, BAIML\, BCU) we offer a £20 discount for members who can quote a valid membership number when booking. \n\nThis course will be in iconic Little Langdale somewhere that gives us quick fast access to some wonderful locations. Joining instructions are sent when bookings are confirmed.\nThe course runs from 09:00 to roughly 18:00.\nRefreshments (tea\, coffee\, biscuits – heck maybe even cake…) are provided\, participants need to bring their own food and snacks; the venue has basic kitchen facilities including a microwave.\nThe course is a mixture of classroom\, practical and outdoor sessions.\nAll learning materials are provided but participants should bring their own method of taking notes etc. Photography & recording is by group agreement only.\n\n16hr Outdoor First Aid Details                           Not sure? Send Enquiry \nplease note places are not allocated until payment is made
URL:https://mountainservices.co.uk/event/16hr-ofa-nov-18-19-19-2/
LOCATION:Langdale Village Hall\, Langdale Village Hall\, Chapel Stile\, Cumbria\, LA22 9JE\, United Kingdom
GEO:54.4517309;-3.0775565
X-APPLE-STRUCTURED-LOCATION;VALUE=URI;X-ADDRESS=Langdale Village Hall Langdale Village Hall Chapel Stile Cumbria LA22 9JE United Kingdom;X-APPLE-RADIUS=500;X-TITLE=Langdale Village Hall:geo:-3.0775565,54.4517309
END:VEVENT
BEGIN:VEVENT
DTSTART;VALUE=DATE:20220312
DTEND;VALUE=DATE:20220314
DTSTAMP:20260424T094502
CREATED:20181203T171104Z
LAST-MODIFIED:20220115T121634Z
UID:2646-1647043200-1647215999@mountainservices.co.uk
SUMMARY:16+hr OFA March 12&13 2022
DESCRIPTION:Cost: £140 \nLooking to learn some life saving skills? Need to revalidate your Outdoor First Aid before the season really kicks off? Want a course that actually takes place on the hill with a really experienced trainer? then… \nIf you work or play in the outdoors then this is the course you want. Kelvyn James is the current President of the British Association of International Mountain Leaders\, an enhanced skills  community First Responder and a Field Trainer for North West Ambulance Service. He’s delivered First Aid courses for nearly a decade and knows that hands on is the best way to learn. \nThis course meets the requirements of most outdoor NGB’s (MTA\, AMI\, BAIML\, BCU) we offer a £20 discount for members who can quote a valid membership number when booking. \n\nThis course will be in Langdale in the Lake District & will give us somewhere that gives us quick fast access to some wonderful locations. Joining instructions are sent when bookings are confirmed.\nThe course runs from 09:00 to roughly 18:00.\nRefreshments (tea\, coffee\, biscuits – heck maybe even cake…) are provided\, participants need to bring their own food and snacks; the venue has basic kitchen.\nThe course is a mixture of classroom\, practical and outdoor sessions. You’ll need to bring clothes that will keep you warm and dry and that you don’t mind getting dirty. We’ll typically be outside for 4+ hours each day.\nAll learning materials are provided but participants should bring their own method of taking notes etc. Photography & recording is by group agreement only.\n\n\n16hr Outdoor First Aid Details                           Not sure? Send Enquiry \nplease note places are not allocated until payment is made
URL:https://mountainservices.co.uk/event/16hr-ofa-march-12-13-2022/
LOCATION:Langdale Village Hall\, Langdale Village Hall\, Chapel Stile\, Cumbria\, LA22 9JE\, United Kingdom
ATTACH;FMTTYPE=image/jpeg:https://mountainservices.co.uk/wp-content/uploads/2018/02/20180224_1618561-e1519489375875.jpg
GEO:54.4517309;-3.0775565
X-APPLE-STRUCTURED-LOCATION;VALUE=URI;X-ADDRESS=Langdale Village Hall Langdale Village Hall Chapel Stile Cumbria LA22 9JE United Kingdom;X-APPLE-RADIUS=500;X-TITLE=Langdale Village Hall:geo:-3.0775565,54.4517309
END:VEVENT
BEGIN:VEVENT
DTSTART;VALUE=DATE:20220415
DTEND;VALUE=DATE:20220417
DTSTAMP:20260424T094502
CREATED:20181203T171104Z
LAST-MODIFIED:20220405T180706Z
UID:2649-1649980800-1650153599@mountainservices.co.uk
SUMMARY:16+hr OFA April 15-16 2022
DESCRIPTION:Cost: £140 \nLooking to learn some life saving skills? Need to revalidate your Outdoor First Aid before the season really kicks off? Want a course that actually takes place on the hill with a really experienced trainer? then… \nIf you work or play in the outdoors then this is the course you want. Kelvyn James is the current President of the British Association of International Mountain Leaders\, an enhanced skills  community First Responder and a Field Trainer for North West Ambulance Service. He’s delivered First Aid courses for nearly a decade and knows that hands on is the best way to learn. \nThis course meets the requirements of most outdoor NGB’s (MTA\, AMI\, BAIML\, BCU) we offer a £20 discount for members who can quote a valid membership number when booking. \n\nThis course will be in Langdale in the Lake District & will give us somewhere that gives us quick fast access to some wonderful locations. Joining instructions are sent when bookings are confirmed.\nThe course runs from 09:00 to roughly 18:00.\nRefreshments (tea\, coffee\, biscuits – heck maybe even cake…) are provided\, participants need to bring their own food and snacks; the venue has basic kitchen.\nThe course is a mixture of classroom\, practical and outdoor sessions. You’ll need to bring clothes that will keep you warm and dry and that you don’t mind getting dirty. We’ll typically be outside for 4+ hours each day.\nAll learning materials are provided but participants should bring their own method of taking notes etc. Photography & recording is by group agreement only.\n\n\n16hr Outdoor First Aid Details                           Not sure? Send Enquiry \nplease note places are not allocated until payment is made
URL:https://mountainservices.co.uk/event/16hr-ofa-april-15-16-2022/
LOCATION:Langdale Village Hall\, Langdale Village Hall\, Chapel Stile\, Cumbria\, LA22 9JE\, United Kingdom
ATTACH;FMTTYPE=image/jpeg:https://mountainservices.co.uk/wp-content/uploads/2018/02/20180224_1618561-e1519489375875.jpg
GEO:54.4517309;-3.0775565
X-APPLE-STRUCTURED-LOCATION;VALUE=URI;X-ADDRESS=Langdale Village Hall Langdale Village Hall Chapel Stile Cumbria LA22 9JE United Kingdom;X-APPLE-RADIUS=500;X-TITLE=Langdale Village Hall:geo:-3.0775565,54.4517309
END:VEVENT
END:VCALENDAR