BEGIN:VCALENDAR
VERSION:2.0
PRODID:-//Mountain Services - ECPv6.0.3.1//NONSGML v1.0//EN
CALSCALE:GREGORIAN
METHOD:PUBLISH
X-WR-CALNAME:Mountain Services
X-ORIGINAL-URL:https://mountainservices.co.uk
X-WR-CALDESC:Events for Mountain Services
REFRESH-INTERVAL;VALUE=DURATION:PT1H
X-Robots-Tag:noindex
X-PUBLISHED-TTL:PT1H
BEGIN:VTIMEZONE
TZID:Europe/London
BEGIN:DAYLIGHT
TZOFFSETFROM:+0000
TZOFFSETTO:+0100
TZNAME:BST
DTSTART:20200329T010000
END:DAYLIGHT
BEGIN:STANDARD
TZOFFSETFROM:+0100
TZOFFSETTO:+0000
TZNAME:GMT
DTSTART:20201025T010000
END:STANDARD
BEGIN:DAYLIGHT
TZOFFSETFROM:+0000
TZOFFSETTO:+0100
TZNAME:BST
DTSTART:20210328T010000
END:DAYLIGHT
BEGIN:STANDARD
TZOFFSETFROM:+0100
TZOFFSETTO:+0000
TZNAME:GMT
DTSTART:20211031T010000
END:STANDARD
BEGIN:DAYLIGHT
TZOFFSETFROM:+0000
TZOFFSETTO:+0100
TZNAME:BST
DTSTART:20220327T010000
END:DAYLIGHT
BEGIN:STANDARD
TZOFFSETFROM:+0100
TZOFFSETTO:+0000
TZNAME:GMT
DTSTART:20221030T010000
END:STANDARD
BEGIN:DAYLIGHT
TZOFFSETFROM:+0000
TZOFFSETTO:+0100
TZNAME:BST
DTSTART:20230326T010000
END:DAYLIGHT
BEGIN:STANDARD
TZOFFSETFROM:+0100
TZOFFSETTO:+0000
TZNAME:GMT
DTSTART:20231029T010000
END:STANDARD
END:VTIMEZONE
BEGIN:VEVENT
DTSTART;VALUE=DATE:20200208
DTEND;VALUE=DATE:20200210
DTSTAMP:20260422T014342
CREATED:20181203T171104Z
LAST-MODIFIED:20191223T160126Z
UID:2044-1581120000-1581292799@mountainservices.co.uk
SUMMARY:16+hr OFA Feb 8-9th 2020
DESCRIPTION:Cost: £130 \nLooking to learn some life saving skills? Need to revalidate your Outdoor First Aid before the season really kicks off? Want a course that actually takes place on the hill with a really experienced trainer? then… \nIf you work or play in the outdoors then this is the course you want. \nThis course meets the requirements of most outdoor NGB’s (MTA\, AMI\, BAIML\, BCU) we offer a £20 discount for members who can quote a valid membership number when booking. \n\nThis course will be in held at Ellesborough Girl Guide Centre somewhere that gives us quick fast access to some wonderful locations. Joining instructions are sent when bookings are confirmed.\nThe course runs from 09:00 to roughly 18:00.\nRefreshments (tea\, coffee\, biscuits – heck maybe even cake…) are provided\, participants need to bring their own food and snacks; the venue has basic kitchen facilities including a microwave.\nThe course is a mixture of classroom\, practical and outdoor sessions.\nAll learning materials are provided but participants should bring their own method of taking notes etc. Photography & recording is by group agreement only.\n\n16hr Outdoor First Aid Details                           Not sure? Send Enquiry \nplease note places are not allocated until payment is made
URL:https://mountainservices.co.uk/event/16hr-ofa-nov-18-19-19-2-2/
LOCATION:NOW SOLD OUT\, United Kingdom
GEO:55.378051;-3.435973
END:VEVENT
BEGIN:VEVENT
DTSTART;VALUE=DATE:20200229
DTEND;VALUE=DATE:20200302
DTSTAMP:20260422T014342
CREATED:20181203T171104Z
LAST-MODIFIED:20200221T165041Z
UID:2049-1582934400-1583107199@mountainservices.co.uk
SUMMARY:16+hr OFA Feb29-Mar1st 2020
DESCRIPTION:Cost: £130 \nLooking to learn some life saving skills? Need to revalidate your Outdoor First Aid before the season really kicks off? Want a course that actually takes place on the hill with a really experienced trainer? then… \nIf you work or play in the outdoors then this is the course you want. \nThis course meets the requirements of most outdoor NGB’s (MTA\, AMI\, BAIML\, BCU) we offer a £20 discount for members who can quote a valid membership number when booking. \n\nThis course will be in the Centenary Hall Scout Hut\, Little Gaddesden\, HertsHP4 1NX somewhere that gives us quick fast access to some wonderful locations. Joining instructions are sent when bookings are confirmed.\nThe course runs from 09:00 to roughly 18:00.\nRefreshments (tea\, coffee\, biscuits – heck maybe even cake…) are provided\, participants need to bring their own food and snacks; the venue has basic kitchen facilities including a microwave.\nThe course is a mixture of classroom\, practical and outdoor sessions.\nAll learning materials are provided but participants should bring their own method of taking notes etc. Photography & recording is by group agreement only.\n\n16hr Outdoor First Aid Details                           Not sure? Send Enquiry \nplease note places are not allocated until payment is made
URL:https://mountainservices.co.uk/event/16hr-ofa-feb-29-mar-01/
LOCATION:NOW SOLD OUT\, United Kingdom
GEO:55.378051;-3.435973
END:VEVENT
BEGIN:VEVENT
DTSTART;TZID=Europe/London:20210329T100000
DTEND;TZID=Europe/London:20210329T130000
DTSTAMP:20260422T014342
CREATED:20190310T161809Z
LAST-MODIFIED:20210316T110617Z
UID:2364-1617012000-1617022800@mountainservices.co.uk
SUMMARY:Loving Lichens 29-03-2021
DESCRIPTION:Places on this completely outdoors workshop are limited to 5 in accordance with covid guidelines. \nThis 3 hour workshop is aimed at anyone who wanders in the Great Outdoors and would like to find out a little more about the oft overlooked wonders that are lichens. \nWith over 1700 varieties identified in the UK and 18\,000 worldwide these fabulous little organisms really are one of natures most neglected wonder. \nSymbiotic\, ancient\, vital – used as food\, to trace the movement of mountains\, to measure the quality of our air – and found everywhere. Lichens are the dominant species for 8% of the worlds land. \nThe workshop will take the form of a walk through the wonderful little visited valley of Borrowdale nr Shap (5 mins from J38\, M6). We’ll look at different types of lichens\, where they grow\, how to identify them & what they are used for\, now\, by ancient man and down the centuries between. \nI’ll be providing everything you need for the day – you’ll just need to be able to keep yourself warm\, dry and enthusiastic! \n 
URL:https://mountainservices.co.uk/event/loving-lichens-29-03-2021/
LOCATION:NOW SOLD OUT\, United Kingdom
ATTACH;FMTTYPE=image/jpeg:https://mountainservices.co.uk/wp-content/uploads/2019/03/environment-fingers-flora-1537811.jpg
GEO:55.378051;-3.435973
END:VEVENT
BEGIN:VEVENT
DTSTART;TZID=Europe/London:20210625T100000
DTEND;TZID=Europe/London:20210625T130000
DTSTAMP:20260422T014342
CREATED:20190310T161809Z
LAST-MODIFIED:20210622T143045Z
UID:2484-1624615200-1624626000@mountainservices.co.uk
SUMMARY:Loving Lichens 25-06-2021
DESCRIPTION:Places on this completely outdoors workshop are limited to 5 in accordance with covid guidelines. \nThis 3 hour workshop is aimed at anyone who wanders in the Great Outdoors and would like to find out a little more about the oft overlooked wonders that are lichens. \nWith over 1700 varieties identified in the UK and 18\,000 worldwide these fabulous little organisms really are one of natures most neglected wonder. \nSymbiotic\, ancient\, vital – used as food\, to trace the movement of mountains\, to measure the quality of our air – and found everywhere. Lichens are the dominant species for 8% of the worlds land. \nThe workshop will take the form of a walk through the wonderful little visited valley of Borrowdale nr Shap (5 mins from J38\, M6). We’ll look at different types of lichens\, where they grow\, how to identify them & what they are used for\, now\, by ancient man and down the centuries between. \nI’ll be providing everything you need for the day – you’ll just need to be able to keep yourself warm\, dry and enthusiastic! \n 
URL:https://mountainservices.co.uk/event/loving-lichens-25-06-2021/
LOCATION:NOW SOLD OUT\, United Kingdom
ATTACH;FMTTYPE=image/jpeg:https://mountainservices.co.uk/wp-content/uploads/2019/03/environment-fingers-flora-1537811.jpg
GEO:55.378051;-3.435973
END:VEVENT
BEGIN:VEVENT
DTSTART;VALUE=DATE:20210821
DTEND;VALUE=DATE:20210823
DTSTAMP:20260422T014342
CREATED:20181203T171104Z
LAST-MODIFIED:20210815T140510Z
UID:2521-1629504000-1629676799@mountainservices.co.uk
SUMMARY:16+hr OFA Aug 21st & 22nd 2021
DESCRIPTION:Cost: £140 \nLooking to learn some life saving skills? Need to revalidate your Outdoor First Aid before the season really kicks off? Want a course that actually takes place on the hill with a really experienced trainer? then… \nIf you work or play in the outdoors then this is the course you want. Kelvyn James is the current President of the British Association of International Mountain Leaders\, an enhanced skills  community First Responder and a Field Trainer for North West Ambulance Service. He’s delivered First Aid courses for nearly a decade and knows that hands on is the best way to learn. \nThis course meets the requirements of most outdoor NGB’s (MTA\, AMI\, BAIML\, BCU) we offer a £20 discount for members who can quote a valid membership number when booking. \n\nThis course will be run under the rule of 6 – so a maximum of 5 participants – so you’ll get time to discuss and try things specific to your requirements (within reason lol!)\nThis course will be in South Lakeland (venue tbc) but we’ll be somewhere that gives us quick fast access to some wonderful locations. Joining instructions are sent when bookings are confirmed.\nThe course runs from 09:00 to roughly 18:00.\nRefreshments (tea\, coffee\, biscuits – heck maybe even cake…) are provided\, participants need to bring their own food and snacks; the venue has basic kitchen.\nThe course is a mixture of classroom\, practical and outdoor sessions. You’ll need to bring clothes that will keep you warm and dry and that you don’t mind getting dirty. We’ll typically be outside for 4+ hours each day.\nAll learning materials are provided but participants should bring their own method of taking notes etc. Photography & recording is by group agreement only.\nAnyone booking a course in these uncertain times is advised to read our Covid Measures blog.\n\n16hr Outdoor First Aid Details                           Not sure? Send Enquiry \nplease note places are not allocated until payment is made
URL:https://mountainservices.co.uk/event/16hr-ofa-aug-21-22-2021/
LOCATION:NOW SOLD OUT\, United Kingdom
GEO:55.378051;-3.435973
END:VEVENT
BEGIN:VEVENT
DTSTART;VALUE=DATE:20210918
DTEND;VALUE=DATE:20210920
DTSTAMP:20260422T014342
CREATED:20181203T171104Z
LAST-MODIFIED:20210906T094450Z
UID:2524-1631923200-1632095999@mountainservices.co.uk
SUMMARY:16+hr OFA Sept 18th & 19th 2021
DESCRIPTION:Cost: £140 \nLooking to learn some life saving skills? Need to revalidate your Outdoor First Aid before the season really kicks off? Want a course that actually takes place on the hill with a really experienced trainer? then… \nIf you work or play in the outdoors then this is the course you want. Kelvyn James is the current President of the British Association of International Mountain Leaders\, an enhanced skills  community First Responder and a Field Trainer for North West Ambulance Service. He’s delivered First Aid courses for nearly a decade and knows that hands on is the best way to learn. \nThis course meets the requirements of most outdoor NGB’s (MTA\, AMI\, BAIML\, BCU) we offer a £20 discount for members who can quote a valid membership number when booking. \n\nThis course will be run under the rule of 6 – so a maximum of 5 participants – so you’ll get time to discuss and try things specific to your requirements (within reason lol!)\nThis course will be in South Lakeland (venue tbc) but we’ll be somewhere that gives us quick fast access to some wonderful locations. Joining instructions are sent when bookings are confirmed.\nThe course runs from 09:00 to roughly 18:00.\nRefreshments (tea\, coffee\, biscuits – heck maybe even cake…) are provided\, participants need to bring their own food and snacks; the venue has basic kitchen.\nThe course is a mixture of classroom\, practical and outdoor sessions. You’ll need to bring clothes that will keep you warm and dry and that you don’t mind getting dirty. We’ll typically be outside for 4+ hours each day.\nAll learning materials are provided but participants should bring their own method of taking notes etc. Photography & recording is by group agreement only.\nAnyone booking a course in these uncertain times is advised to read our Covid Measures blog.\n\n16hr Outdoor First Aid Details                           Not sure? Send Enquiry \nplease note places are not allocated until payment is made
URL:https://mountainservices.co.uk/event/16hr-ofa-sept-18-19-2021/
LOCATION:NOW SOLD OUT\, United Kingdom
GEO:55.378051;-3.435973
END:VEVENT
BEGIN:VEVENT
DTSTART;TZID=Europe/London:20220303T100000
DTEND;TZID=Europe/London:20220303T140000
DTSTAMP:20260422T014342
CREATED:20220115T124312Z
LAST-MODIFIED:20220215T110427Z
UID:2686-1646301600-1646316000@mountainservices.co.uk
SUMMARY:More Loving Lichens! (03-03-22)
DESCRIPTION:This is an all new for 22 workshop! \nWe’ll still work on building an foundation knowledge of this tiny wonders of nature – but different venue\, different habitat\, different lichens! \nWhether you’ve been on a Loving Lichens workshop before or not this workshop will teach and develop an understanding of ecosystems\, the role lichens lay in them & a methodology of how to identify some common (& potentially rare) lichens found in the wilder parts of the UK. \nThe workshop will take the form of a 3 hour wander into nature. As ever this is a very ‘hands on’ workshop and is reactive to the participants – so we’ll be adapting to weather\, knowledge levels and what we can find on the day.
URL:https://mountainservices.co.uk/event/more-loving-lichens-03-03-22/
LOCATION:NOW SOLD OUT\, United Kingdom
ATTACH;FMTTYPE=image/jpeg:https://mountainservices.co.uk/wp-content/uploads/2022/01/Baeomyces-rufus-scaled.jpg
GEO:55.378051;-3.435973
END:VEVENT
BEGIN:VEVENT
DTSTART;TZID=Europe/London:20220305T083000
DTEND;TZID=Europe/London:20220306T180000
DTSTAMP:20260422T014342
CREATED:20220115T121030Z
LAST-MODIFIED:20220228T202420Z
UID:2642-1646469000-1646589600@mountainservices.co.uk
SUMMARY:16hr+ Outdoor First Aid Course  5&6th March 2022
DESCRIPTION:Cost: £140 \nLooking to learn some life saving skills? Need to revalidate your Outdoor First Aid before the season really kicks off? Want a course that actually takes place on the hill with a really experienced trainer? then… \nIf you work or play in the outdoors then this is the course you want. Kelvyn James is the current President of the British Association of International Mountain Leaders\, an enhanced skills  community First Responder and a Field Trainer for North West Ambulance Service. He’s delivered First Aid courses for nearly a decade and knows that hands on is the best way to learn. \nThis course meets the requirements of most outdoor NGB’s (MTA\, AMI\, BAIML\, BCU). \n\nThis is a very practical based course – so we’ll be doing outdoor first aid outdoors a lot – come prepared\nThis course will be in Little Gaddseden but we’ll be somewhere that gives us quick fast access to some wonderful locations. Joining instructions are sent when bookings are confirmed.\nThe course runs from 08:30 to roughly 18:00.\nRefreshments (tea\, coffee\, biscuits – heck maybe even cake…) are provided\, participants need to bring their own food and snacks; the venue has basic kitchen.\nThe course is a mixture of classroom\, practical and outdoor sessions. You’ll need to bring clothes that will keep you warm and dry and that you don’t mind getting dirty. We’ll typically be outside for 4+ hours each day.\nAll learning materials are provided but participants should bring their own method of taking notes etc. Photography & recording is by group agreement only.
URL:https://mountainservices.co.uk/event/16hr-outdoor-first-aid-5-6-march-2022/
LOCATION:NOW SOLD OUT\, United Kingdom
GEO:55.378051;-3.435973
END:VEVENT
BEGIN:VEVENT
DTSTART;VALUE=DATE:20230128
DTEND;VALUE=DATE:20230130
DTSTAMP:20260422T014342
CREATED:20181203T171104Z
LAST-MODIFIED:20221007T164319Z
UID:2760-1674864000-1675036799@mountainservices.co.uk
SUMMARY:16+hr OFA 28-29 Jan 2023
DESCRIPTION:Cost: £160 \nLooking to learn some life saving skills? Need to revalidate your Outdoor First Aid before the season really kicks off? Want a course that actually takes place on the hill with a really experienced trainer? then… \nIf you work or play in the outdoors then this is the course you want. Kelvyn James is the current President of the British Association of International Mountain Leaders\, an enhanced skills  community First Responder and a Field Trainer for North West Ambulance Service. He’s delivered First Aid courses for nearly a decade and knows that hands on is the best way to learn. \nThis course meets the requirements of most outdoor NGB’s (MTA\, AMI\, BAIML\, BCU) we offer a £20 discount for members who can quote a valid membership number when booking. \n\nThis course will be in Langdale in the Lake District & will give us somewhere that gives us quick fast access to some wonderful locations. Joining instructions are sent when bookings are confirmed.\nThe course runs from 09:00 to roughly 18:00.\nRefreshments (tea\, coffee\, biscuits – heck maybe even cake…) are provided\, participants need to bring their own food and snacks; the venue has basic kitchen.\nThe course is a mixture of classroom\, practical and outdoor sessions. You’ll need to bring clothes that will keep you warm and dry and that you don’t mind getting dirty. We’ll typically be outside for 4+ hours each day.\nAll learning materials are provided but participants should bring their own method of taking notes etc. Photography & recording is by group agreement only.\n\n\n16hr Outdoor First Aid Details                           Not sure? Send Enquiry \nplease note places are not allocated until payment is made
URL:https://mountainservices.co.uk/event/16hr-ofa-28-29-jan-2023/
LOCATION:NOW SOLD OUT\, United Kingdom
ATTACH;FMTTYPE=image/jpeg:https://mountainservices.co.uk/wp-content/uploads/2018/02/20180224_1618561-e1519489375875.jpg
GEO:55.378051;-3.435973
END:VEVENT
END:VCALENDAR