BEGIN:VCALENDAR
VERSION:2.0
PRODID:-//Mountain Services - ECPv6.0.3.1//NONSGML v1.0//EN
CALSCALE:GREGORIAN
METHOD:PUBLISH
X-WR-CALNAME:Mountain Services
X-ORIGINAL-URL:https://mountainservices.co.uk
X-WR-CALDESC:Events for Mountain Services
REFRESH-INTERVAL;VALUE=DURATION:PT1H
X-Robots-Tag:noindex
X-PUBLISHED-TTL:PT1H
BEGIN:VTIMEZONE
TZID:Europe/London
BEGIN:DAYLIGHT
TZOFFSETFROM:+0000
TZOFFSETTO:+0100
TZNAME:BST
DTSTART:20210328T010000
END:DAYLIGHT
BEGIN:STANDARD
TZOFFSETFROM:+0100
TZOFFSETTO:+0000
TZNAME:GMT
DTSTART:20211031T010000
END:STANDARD
END:VTIMEZONE
BEGIN:VEVENT
DTSTART;TZID=Europe/London:20210212T100000
DTEND;TZID=Europe/London:20210212T120000
DTSTAMP:20260423T130725
CREATED:20210201T173000Z
LAST-MODIFIED:20210201T173644Z
UID:2306-1613124000-1613131200@mountainservices.co.uk
SUMMARY:Intro to Lichens Webinar
DESCRIPTION:This two hour webinar will look at: \nWhat are lichens \nWhere can we find them \nHow to classify lichens \n& basic steps you can take to start identifying lichens \nA mix of live talk\, in the field videos and photography will aim to give participants some basic knowledge about these tiny marvels that most people never even notice. I’ll introduce a simple methodology to help you start identifying lichens when you’re out and about and the session will be full of interesting facts and top tips to help you engage & enthuse people about lichens. \nThe sessions will be done via Zoom webinar and all participants will be emailed a lichens glossary and resources data sheet. \n£2 from each ticket is donated to the Wellness Walks program run by Mental Health North West CIC
URL:https://mountainservices.co.uk/event/intro-to-lichens-webinar/
LOCATION:Online Webinar\, www\, United Kingdom
ATTACH;FMTTYPE=image/jpeg:https://mountainservices.co.uk/wp-content/uploads/2019/03/Rhizocarpum-geographicum.jpg
GEO:55.378051;-3.435973
X-APPLE-STRUCTURED-LOCATION;VALUE=URI;X-ADDRESS=Online Webinar www United Kingdom;X-APPLE-RADIUS=500;X-TITLE=www:geo:-3.435973,55.378051
END:VEVENT
BEGIN:VEVENT
DTSTART;TZID=Europe/London:20210213T100000
DTEND;TZID=Europe/London:20210213T120000
DTSTAMP:20260423T130725
CREATED:20210201T173000Z
LAST-MODIFIED:20210201T195041Z
UID:2311-1613210400-1613217600@mountainservices.co.uk
SUMMARY:Intro to Lichens Webinar
DESCRIPTION:This two hour webinar will look at: \nWhat are lichens \nWhere can we find them \nHow to classify lichens \n& basic steps you can take to start identifying lichens \nA mix of live talk\, in the field videos and photography will aim to give participants some basic knowledge about these tiny marvels that most people never even notice. I’ll introduce a simple methodology to help you start identifying lichens when you’re out and about and the session will be full of interesting facts and top tips to help you engage & enthuse people about lichens. \nThe sessions will be done via Zoom webinar and all participants will be emailed a lichens glossary and resources data sheet. \n£2 from each ticket is donated to the Wellness Walks program run by Mental Health North West CIC
URL:https://mountainservices.co.uk/event/intro-to-lichens-webinar-13-02-21/
LOCATION:Online Webinar\, www\, United Kingdom
ATTACH;FMTTYPE=image/jpeg:https://mountainservices.co.uk/wp-content/uploads/2019/03/Rhizocarpum-geographicum.jpg
GEO:55.378051;-3.435973
X-APPLE-STRUCTURED-LOCATION;VALUE=URI;X-ADDRESS=Online Webinar www United Kingdom;X-APPLE-RADIUS=500;X-TITLE=www:geo:-3.435973,55.378051
END:VEVENT
BEGIN:VEVENT
DTSTART;TZID=Europe/London:20210403T100000
DTEND;TZID=Europe/London:20210403T120000
DTSTAMP:20260423T130725
CREATED:20210201T173000Z
LAST-MODIFIED:20210311T190947Z
UID:2378-1617444000-1617451200@mountainservices.co.uk
SUMMARY:Intro to Lichens Webinar 03-04-2021
DESCRIPTION:This two hour webinar will look at: \nWhat are lichens \nWhere can we find them \nHow to classify lichens \n& basic steps you can take to start identifying lichens \nA mix of live talk\, in the field videos and photography will aim to give participants some basic knowledge about these tiny marvels that most people never even notice. I’ll introduce a simple methodology to help you start identifying lichens when you’re out and about and the session will be full of interesting facts and top tips to help you engage & enthuse people about lichens. \nThe sessions will be done via Zoom webinar and all participants will be emailed a lichens glossary and resources data sheet. \n£2 from each ticket is donated to the Wellness Walks program run by Mental Health North West CIC
URL:https://mountainservices.co.uk/event/intro-to-lichens-webinar-03-04-21/
LOCATION:Online Webinar\, www\, United Kingdom
ATTACH;FMTTYPE=image/jpeg:https://mountainservices.co.uk/wp-content/uploads/2019/03/Rhizocarpum-geographicum.jpg
GEO:55.378051;-3.435973
X-APPLE-STRUCTURED-LOCATION;VALUE=URI;X-ADDRESS=Online Webinar www United Kingdom;X-APPLE-RADIUS=500;X-TITLE=www:geo:-3.435973,55.378051
END:VEVENT
BEGIN:VEVENT
DTSTART;TZID=Europe/London:20210408T183000
DTEND;TZID=Europe/London:20210408T203000
DTSTAMP:20260423T130725
CREATED:20210201T173000Z
LAST-MODIFIED:20210313T164655Z
UID:2385-1617906600-1617913800@mountainservices.co.uk
SUMMARY:Intro to Lichens Webinar 08-04-2021
DESCRIPTION:This two hour webinar will look at: \nWhat are lichens \nWhere can we find them \nHow to classify lichens \n& basic steps you can take to start identifying lichens \nA mix of live talk\, in the field videos and photography will aim to give participants some basic knowledge about these tiny marvels that most people never even notice. I’ll introduce a simple methodology to help you start identifying lichens when you’re out and about and the session will be full of interesting facts and top tips to help you engage & enthuse people about lichens. \nThe sessions will be done via Zoom webinar and all participants will be emailed a lichens glossary and resources data sheet. \n£2 from each ticket is donated to the Wellness Walks program run by Mental Health North West CIC
URL:https://mountainservices.co.uk/event/intro-to-lichens-webinar-08-04-21/
LOCATION:Online Webinar\, www\, United Kingdom
ATTACH;FMTTYPE=image/jpeg:https://mountainservices.co.uk/wp-content/uploads/2019/03/Rhizocarpum-geographicum.jpg
GEO:55.378051;-3.435973
X-APPLE-STRUCTURED-LOCATION;VALUE=URI;X-ADDRESS=Online Webinar www United Kingdom;X-APPLE-RADIUS=500;X-TITLE=www:geo:-3.435973,55.378051
END:VEVENT
END:VCALENDAR