BEGIN:VCALENDAR
VERSION:2.0
PRODID:-//Mountain Services - ECPv6.0.3.1//NONSGML v1.0//EN
CALSCALE:GREGORIAN
METHOD:PUBLISH
X-WR-CALNAME:Mountain Services
X-ORIGINAL-URL:https://mountainservices.co.uk
X-WR-CALDESC:Events for Mountain Services
REFRESH-INTERVAL;VALUE=DURATION:PT1H
X-Robots-Tag:noindex
X-PUBLISHED-TTL:PT1H
BEGIN:VTIMEZONE
TZID:Europe/London
BEGIN:DAYLIGHT
TZOFFSETFROM:+0000
TZOFFSETTO:+0100
TZNAME:BST
DTSTART:20200329T010000
END:DAYLIGHT
BEGIN:STANDARD
TZOFFSETFROM:+0100
TZOFFSETTO:+0000
TZNAME:GMT
DTSTART:20201025T010000
END:STANDARD
BEGIN:DAYLIGHT
TZOFFSETFROM:+0000
TZOFFSETTO:+0100
TZNAME:BST
DTSTART:20210328T010000
END:DAYLIGHT
BEGIN:STANDARD
TZOFFSETFROM:+0100
TZOFFSETTO:+0000
TZNAME:GMT
DTSTART:20211031T010000
END:STANDARD
BEGIN:DAYLIGHT
TZOFFSETFROM:+0000
TZOFFSETTO:+0100
TZNAME:BST
DTSTART:20220327T010000
END:DAYLIGHT
BEGIN:STANDARD
TZOFFSETFROM:+0100
TZOFFSETTO:+0000
TZNAME:GMT
DTSTART:20221030T010000
END:STANDARD
END:VTIMEZONE
BEGIN:VEVENT
DTSTART;TZID=Europe/London:20201110T183000
DTEND;TZID=Europe/London:20201110T223000
DTSTAMP:20260422T014343
CREATED:20191223T142605Z
LAST-MODIFIED:20201009T144539Z
UID:2269-1605033000-1605047400@mountainservices.co.uk
SUMMARY:Night Nav Ninjas 10-11-20
DESCRIPTION:This workshop is a little different this year – a fun competition\, with fun prizes. \nYou’ll need to be super accurate with your pacing…but\, and you’ll know this having attended the prior sessions\, you’ll also need to be able to utilise other strategies and different skills. \nThis will be a minimum of assessment level navigation – but each leg will have learning lessons involved. \nThe session will be in the East of Cumbria with relatively easy access from the M6 – the final location will be confirmed in the prior week. \nI’m restricting access to this session – so if you’re interested drop me a line first as priority will be given to anyone who has attended a previous Mountain Services Night Navigation Session. \nThis session is free for MTA Members.
URL:https://mountainservices.co.uk/event/intro-to-night-nav-10-11-20/
LOCATION:TBC East Cumbria\, Secret!\, Not Telling!\, United Kingdom
END:VEVENT
BEGIN:VEVENT
DTSTART;TZID=Europe/London:20220107T183000
DTEND;TZID=Europe/London:20220107T213000
DTSTAMP:20260422T014343
CREATED:20191223T142605Z
LAST-MODIFIED:20211027T135056Z
UID:2584-1641580200-1641591000@mountainservices.co.uk
SUMMARY:Night Nav Ninjas 07-01-2022
DESCRIPTION:This workshop is a little different this year – a fun competition\, with fun prizes. \nYou’ll need to be super accurate with your pacing…but\, and you’ll know this having attended the prior sessions\, you’ll also need to be able to utilise other strategies and different skills. \nThis will be a minimum of assessment level navigation – but each leg will have learning lessons involved. \nThe session will be in the East of Cumbria with relatively easy access from the M6 – the final location will be confirmed in the prior week. \nI’m restricting access to this session – so if you’re interested drop me a line first as priority will be given to anyone who has attended a previous Mountain Services Night Navigation Session. \nThis session is free for MTA Members.
URL:https://mountainservices.co.uk/event/intro-to-night-nav-2-2-2/
LOCATION:TBC East Cumbria\, Secret!\, Not Telling!\, United Kingdom
ATTACH;FMTTYPE=image/jpeg:https://mountainservices.co.uk/wp-content/uploads/2018/09/night2.jpg
END:VEVENT
END:VCALENDAR