BEGIN:VCALENDAR
VERSION:2.0
PRODID:-//Mountain Services - ECPv6.0.3.1//NONSGML v1.0//EN
CALSCALE:GREGORIAN
METHOD:PUBLISH
X-ORIGINAL-URL:https://mountainservices.co.uk
X-WR-CALDESC:Events for Mountain Services
REFRESH-INTERVAL;VALUE=DURATION:PT1H
X-Robots-Tag:noindex
X-PUBLISHED-TTL:PT1H
BEGIN:VTIMEZONE
TZID:Europe/London
BEGIN:DAYLIGHT
TZOFFSETFROM:+0000
TZOFFSETTO:+0100
TZNAME:BST
DTSTART:20220327T010000
END:DAYLIGHT
BEGIN:STANDARD
TZOFFSETFROM:+0100
TZOFFSETTO:+0000
TZNAME:GMT
DTSTART:20221030T010000
END:STANDARD
END:VTIMEZONE
BEGIN:VEVENT
DTSTART;TZID=Europe/London:20220211T183000
DTEND;TZID=Europe/London:20220211T210000
DTSTAMP:20260424T130756
CREATED:20191223T142605Z
LAST-MODIFIED:20220131T145935Z
UID:2660-1644604200-1644613200@mountainservices.co.uk
SUMMARY:Intro to Night Nav 11-02-22
DESCRIPTION:This workshop is aimed at anyone interested in taking their navigation to the next level. \nIt’s an Intro session so we’ll be looking at: \nKit \nWhat skills you have now \nWhat skills you need to develop \n  \nThis session will start from Threlkeld – we’ll meet outside the village hall. You’ll need to bring a torch\, the relevant map & whatever you need to keep you happy on the hill at night in Febriary…. \nThis session is free for MTA Members – but needs to be booked via the CMS system.
URL:https://mountainservices.co.uk/event/intro-to-night-nav-11-02-22/
LOCATION:Threlkeld\, See Details
ATTACH;FMTTYPE=image/jpeg:https://mountainservices.co.uk/wp-content/uploads/2018/09/night4.jpeg
GEO:36.076818;-95.8571406
X-APPLE-STRUCTURED-LOCATION;VALUE=URI;X-ADDRESS=Threlkeld See Details;X-APPLE-RADIUS=500;X-TITLE=See Details:geo:-95.8571406,36.076818
END:VEVENT
BEGIN:VEVENT
DTSTART;TZID=Europe/London:20220225T183000
DTEND;TZID=Europe/London:20220225T213000
DTSTAMP:20260424T130756
CREATED:20191223T142605Z
LAST-MODIFIED:20220116T164602Z
UID:2664-1645813800-1645824600@mountainservices.co.uk
SUMMARY:Intermediate Night Nav 25-02-22
DESCRIPTION:This workshop is aimed at anyone interested in taking their navigation to the next level. It is recommended that attendees have basic night navigation skills or have attended the Into session. \nThis session is a progression from the Intro sessions\, so we’ll be looking at: \nAdapting existing techniques \nDeveloping strategies \nFine tuning our focus \n  \nWe’ll be meeting at Threlkeld Village Hall – depending on the weather we might take a short drive.\nYou’ll need a toch\, map\, compass – a few basics nav skills already in place – and whatever you need to keep you safe on the hill at night in February \nThis session is free for MTA Members.
URL:https://mountainservices.co.uk/event/inter-night-nav-22-02-22/
LOCATION:Threlkeld\, See Details
ATTACH;FMTTYPE=image/jpeg:https://mountainservices.co.uk/wp-content/uploads/2018/09/night1.jpg
GEO:36.076818;-95.8571406
X-APPLE-STRUCTURED-LOCATION;VALUE=URI;X-ADDRESS=Threlkeld See Details;X-APPLE-RADIUS=500;X-TITLE=See Details:geo:-95.8571406,36.076818
END:VEVENT
END:VCALENDAR